View In:
ArcGIS JavaScript
ArcGIS Online Map Viewer
ArcGIS Earth
Service Description: FranceRaster® - 2021 - L93
Name: II_3_Ortho_imagerie/FranceRaster_L93_ImageServer
Description: FranceRaster® - 2021 - L93
Single Fused Map Cache: true
Tile Info:
- Height: 512
- Width: 512
- DPI: 96
-
Levels of Detail: 13
- Format: PNG8
- Compression Quality: 0.0
- LERC Error: NaN
- Origin: X: -3.55975E7
Y: 4.89531E7
- Spatial Reference: 102110
(2154)
Storage Info:
- Storage Format: esriMapCacheStorageModeCompactV2
- Packet Size: 128
Extent:
XMin: -58787.14757429063
YMin: 6011865.6633646535
XMax: 1326745.1422402891
YMax: 7141710.458470911
Spatial Reference: 102110
(2154)
Initial Extent:
XMin: -58787.14757429063
YMin: 6011865.6633646535
XMax: 1326745.1422402891
YMax: 7141710.458470911
Spatial Reference: 102110
(2154)
Full Extent:
XMin: -58787.14757429063
YMin: 6011865.6633646535
XMax: 1326745.1422402891
YMax: 7141710.458470911
Spatial Reference: 102110
(2154)
Pixel Size X: 0.26458386250105836
Pixel Size Y: 0.2645838625010584
Band Count: 3
Pixel Type: U8
RasterFunction Infos: {"rasterFunctionInfos": [{
"name": "None",
"description": "",
"help": ""
}]}
Mensuration Capabilities: Basic
Inspection Capabilities:
Has Histograms: false
Has Colormap: false
Has Multi Dimensions : false
Rendering Rule:
Min Scale: 0
Max Scale: 0
Copyright Text: CD45
Service Data Type: esriImageServiceDataTypeRGB
Min Values: N/A
Max Values: N/A
Mean Values: N/A
Standard Deviation Values: N/A
Object ID Field:
Fields:
None
Default Mosaic Method: Center
Allowed Mosaic Methods:
SortField:
SortValue: null
Mosaic Operator: First
Default Compression Quality: 75
Default Resampling Method: Bilinear
Max Record Count: null
Max Image Height: 4100
Max Image Width: 15000
Max Download Image Count: null
Max Mosaic Image Count: null
Allow Raster Function: true
Allow Copy: true
Allow Analysis: true
Allow Compute TiePoints: false
Supports Statistics: false
Supports Advanced Queries: false
Use StandardizedQueries: true
Raster Type Infos:
Name: Raster Dataset
Description: Prend en charge tous les jeux de données raster ArcGIS
Help:
Has Raster Attribute Table: false
Edit Fields Info: null
Ownership Based AccessControl For Rasters: null
Child Resources:
Info
Statistics
Key Properties
Legend
Raster Function Infos
Supported Operations:
Export Image
Identify
Measure
Compute Histograms
Compute Statistics Histograms
Get Samples
Compute Class Statistics
Query Boundary
Compute Pixel Location
Compute Angles
Validate
Project