{
 "currentVersion": 11.3,
 "serviceDescription": "FranceRaster® - 2021 - L93",
 "name": "II_3_Ortho_imagerie/FranceRaster_L93_ImageServer",
 "description": "FranceRaster® - 2021 - L93",
 "extent": {
  "xmin": -58787.14757429063,
  "ymin": 6011865.6633646535,
  "xmax": 1326745.1422402891,
  "ymax": 7141710.458470911,
  "spatialReference": {
   "wkid": 102110,
   "latestWkid": 2154
  }
 },
 "initialExtent": {
  "xmin": -58787.14757429063,
  "ymin": 6011865.6633646535,
  "xmax": 1326745.1422402891,
  "ymax": 7141710.458470911,
  "spatialReference": {
   "wkid": 102110,
   "latestWkid": 2154
  }
 },
 "fullExtent": {
  "xmin": -58787.14757429063,
  "ymin": 6011865.6633646535,
  "xmax": 1326745.1422402891,
  "ymax": 7141710.458470911,
  "spatialReference": {
   "wkid": 102110,
   "latestWkid": 2154
  }
 },
 "sortableFields": "",
 "bandCount": 3,
 "pixelType": "U8",
 "minValues": [],
 "maxValues": [],
 "meanValues": [],
 "stdvValues": [],
 "hasMultidimensions": false,
 "pixelSizeX": 0.26458386250105836,
 "pixelSizeY": 0.2645838625010584,
 "meanPixelSize": 0.26458386250105836,
 "datasetFormat": "AFR",
 "uncompressedSize": 67085705464011,
 "blockWidth": 512,
 "blockHeight": 512,
 "compressionType": "None",
 "bandNames": [
  "Band_1",
  "Band_2",
  "Band_3"
 ],
 "allowCopy": true,
 "allowAnalysis": true,
 "itemAccess": false,
 "inspectionCapabilities": "",
 "minPixelSize": 0,
 "maxPixelSize": 0,
 "copyrightText": "CD45",
 "serviceDataType": "esriImageServiceDataTypeRGB",
 "serviceSourceType": "esriImageServiceSourceTypeDataset",
 "objectIdField": "",
 "fields": [],
 "capabilities": "Mensuration,Image,Metadata",
 "defaultMosaicMethod": "Center",
 "allowedMosaicMethods": "",
 "sortField": "",
 "sortValue": null,
 "sortAscending": true,
 "mosaicOperator": "First",
 "defaultCompressionQuality": 75,
 "defaultResamplingMethod": "Bilinear",
 "maxImageHeight": 4100,
 "maxImageWidth": 15000,
 "singleFusedMapCache": true,
 "tileInfo": {
  "rows": 512,
  "cols": 512,
  "dpi": 96,
  "format": "PNG8",
  "compressionQuality": 0,
  "origin": {
   "x": -35597500,
   "y": 48953100
  },
  "spatialReference": {
   "wkid": 102110,
   "latestWkid": 2154
  },
  "lods": [
   {
    "level": 0,
    "resolution": 2000.0000000000002,
    "scale": 7559040
   },
   {
    "level": 1,
    "resolution": 1000.0000000000001,
    "scale": 3779520
   },
   {
    "level": 2,
    "resolution": 500.00000000000006,
    "scale": 1889760
   },
   {
    "level": 3,
    "resolution": 250.00000000000003,
    "scale": 944880
   },
   {
    "level": 4,
    "resolution": 100,
    "scale": 377952
   },
   {
    "level": 5,
    "resolution": 50,
    "scale": 188976
   },
   {
    "level": 6,
    "resolution": 25,
    "scale": 94488
   },
   {
    "level": 7,
    "resolution": 9.9999470832275,
    "scale": 37795
   },
   {
    "level": 8,
    "resolution": 5.000105833545001,
    "scale": 18898
   },
   {
    "level": 9,
    "resolution": 2.5000529167725003,
    "scale": 9449
   },
   {
    "level": 10,
    "resolution": 1.0001270002540006,
    "scale": 3780
   },
   {
    "level": 11,
    "resolution": 0.5000635001270003,
    "scale": 1890
   },
   {
    "level": 12,
    "resolution": 0.26458386250105836,
    "scale": 1000
   }
  ]
 },
 "storageInfo": {
  "storageFormat": "esriMapCacheStorageModeCompactV2",
  "packetSize": 128
 },
 "cacheType": "Map",
 "allowRasterFunction": true,
 "rasterFunctionInfos": [
  {
   "name": "None",
   "description": "",
   "help": ""
  }
 ],
 "rasterTypeInfos": [
  {
   "name": "Raster Dataset",
   "description": "Prend en charge tous les jeux de données raster ArcGIS",
   "help": ""
  }
 ],
 "mensurationCapabilities": "Basic",
 "hasHistograms": false,
 "hasColormap": false,
 "hasRasterAttributeTable": false,
 "minScale": 0,
 "maxScale": 0,
 "exportTilesAllowed": false,
 "supportsStatistics": false,
 "supportsAdvancedQueries": false,
 "editFieldsInfo": null,
 "ownershipBasedAccessControlForRasters": null,
 "allowComputeTiePoints": false,
 "useStandardizedQueries": true,
 "advancedQueryCapabilities": {
  "useStandardizedQueries": true,
  "supportsStatistics": false,
  "supportsOrderBy": false,
  "supportsDistinct": false,
  "supportsPagination": false
 },
 "spatialReference": {
  "wkid": 102110,
  "latestWkid": 2154
 }
}
